BEGIN:VCALENDAR
VERSION:2.0
PRODID:-//Plone.org//NONSGML plone.app.event//EN
X-WR-TIMEZONE:America/Argentina/Buenos_Aires
BEGIN:VEVENT
SUMMARY:VI Simposio de Revistas Científicas
DTSTART;VALUE=DATE:20221011
DTEND;VALUE=DATE:20221014
DTSTAMP;VALUE=DATE-TIME:20260420T132138Z
UID:95c9c678c676423ca94090f7cfeb5918@163.10.30.55
CONTACT:portal@redsara.org\, https://redsara.org/actividad/vi-simposio-de-
 revistas-cientificas/
CREATED;VALUE=DATE-TIME:20220929T155451Z
DESCRIPTION:Tendrá lugar los días 11\, 12 y 13 de octubre de 2022. Trasm
 isión por YouTube
LAST-MODIFIED;VALUE=DATE-TIME:20220930T233115Z
URL:http://163.10.30.55/redes/divulgacion/accesoabierto/eventos/vi-simposi
 o-de-revistas-cientificas
END:VEVENT
END:VCALENDAR
